BEGIN:VCALENDAR
VERSION:2.0
PRODID:-//Beta Alpha Psi - ECPv6.14.1//NONSGML v1.0//EN
CALSCALE:GREGORIAN
METHOD:PUBLISH
X-WR-CALNAME:Beta Alpha Psi
X-ORIGINAL-URL:https://www.osubap.com
X-WR-CALDESC:Events for Beta Alpha Psi
REFRESH-INTERVAL;VALUE=DURATION:PT1H
X-Robots-Tag:noindex
X-PUBLISHED-TTL:PT1H
BEGIN:VTIMEZONE
TZID:America/Los_Angeles
BEGIN:DAYLIGHT
TZOFFSETFROM:-0800
TZOFFSETTO:-0700
TZNAME:PDT
DTSTART:20180311T100000
END:DAYLIGHT
BEGIN:STANDARD
TZOFFSETFROM:-0700
TZOFFSETTO:-0800
TZNAME:PST
DTSTART:20181104T090000
END:STANDARD
BEGIN:DAYLIGHT
TZOFFSETFROM:-0800
TZOFFSETTO:-0700
TZNAME:PDT
DTSTART:20190310T100000
END:DAYLIGHT
BEGIN:STANDARD
TZOFFSETFROM:-0700
TZOFFSETTO:-0800
TZNAME:PST
DTSTART:20191103T090000
END:STANDARD
END:VTIMEZONE
BEGIN:VEVENT
DTSTART;TZID=America/Los_Angeles:20190529T180000
DTEND;TZID=America/Los_Angeles:20190529T190000
DTSTAMP:20260423T203054
CREATED:20190407T232808Z
LAST-MODIFIED:20190407T232808Z
UID:3481-1559152800-1559156400@www.osubap.com
SUMMARY:Preparing for Fall Recruiting by Aldrich
DESCRIPTION:Open for Everyone.
URL:https://www.osubap.com/event/preparing-for-fall-recruiting-by-aldrich/
LOCATION:Austin Hall 183\, SW Jefferson Way\, Corvallis\, United States
END:VEVENT
BEGIN:VEVENT
DTSTART;TZID=America/Los_Angeles:20190522T180000
DTEND;TZID=America/Los_Angeles:20190522T190000
DTSTAMP:20260423T203054
CREATED:20190407T232649Z
LAST-MODIFIED:20190407T232649Z
UID:3479-1558548000-1558551600@www.osubap.com
SUMMARY:Women in Leadership by Moss Adams
DESCRIPTION:Joint with Women in Leadership Club. Open to BAP member only.
URL:https://www.osubap.com/event/women-in-leadership-by-moss-adams/
LOCATION:Austin Hall 226\, 2751 SW Jefferson Way\, Corvallis\, OR\, United States
END:VEVENT
BEGIN:VEVENT
DTSTART;TZID=America/Los_Angeles:20190515T180000
DTEND;TZID=America/Los_Angeles:20190515T200000
DTSTAMP:20260423T203054
CREATED:20190407T232457Z
LAST-MODIFIED:20190407T232457Z
UID:3477-1557943200-1557950400@www.osubap.com
SUMMARY:Spring Banquet
DESCRIPTION:For Accounting Students
URL:https://www.osubap.com/event/spring-banquet/
LOCATION:TBA
END:VEVENT
BEGIN:VEVENT
DTSTART;TZID=America/Los_Angeles:20190515T100000
DTEND;TZID=America/Los_Angeles:20190515T130000
DTSTAMP:20260423T203054
CREATED:20190119T011910Z
LAST-MODIFIED:20190119T011910Z
UID:3331-1557914400-1557925200@www.osubap.com
SUMMARY:College of Business - Meet the Firms
DESCRIPTION:
URL:https://www.osubap.com/event/college-of-business-meet-the-firms/
END:VEVENT
BEGIN:VEVENT
DTSTART;TZID=America/Los_Angeles:20190508T180000
DTEND;TZID=America/Los_Angeles:20190508T190000
DTSTAMP:20260423T203054
CREATED:20190407T232234Z
LAST-MODIFIED:20190419T084208Z
UID:3474-1557338400-1557342000@www.osubap.com
SUMMARY:Professional Certification Workshop
DESCRIPTION:Only for BAP Members.
URL:https://www.osubap.com/event/cpa-panel-by-becker-roger-cpa-review/
LOCATION:Austin Hall 226\, 2751 SW Jefferson Way\, Corvallis\, OR\, United States
END:VEVENT
BEGIN:VEVENT
DTSTART;TZID=America/Los_Angeles:20190501T180000
DTEND;TZID=America/Los_Angeles:20190501T190000
DTSTAMP:20260423T203054
CREATED:20190407T231954Z
LAST-MODIFIED:20190407T231954Z
UID:3472-1556733600-1556737200@www.osubap.com
SUMMARY:Data Analytics by Ernst & Young
DESCRIPTION:Joint meeting with BIS club and Open to Everyone
URL:https://www.osubap.com/event/data-analytics-by-ernst-young/
LOCATION:Austin Hall 183\, SW Jefferson Way\, Corvallis\, United States
END:VEVENT
BEGIN:VEVENT
DTSTART;TZID=America/Los_Angeles:20190424T180000
DTEND;TZID=America/Los_Angeles:20190424T190000
DTSTAMP:20260423T203054
CREATED:20190407T231800Z
LAST-MODIFIED:20190407T231800Z
UID:3470-1556128800-1556132400@www.osubap.com
SUMMARY:Pathway to Partnership by Jones & Roth
DESCRIPTION:BAP Members Only Event
URL:https://www.osubap.com/event/pathway-to-partnership-by-jones-roth/
LOCATION:Austin Hall 226\, 2751 SW Jefferson Way\, Corvallis\, OR\, United States
END:VEVENT
BEGIN:VEVENT
DTSTART;TZID=America/Los_Angeles:20190417T180000
DTEND;TZID=America/Los_Angeles:20190417T190000
DTSTAMP:20260423T203054
CREATED:20190407T231537Z
LAST-MODIFIED:20190407T231537Z
UID:3468-1555524000-1555527600@www.osubap.com
SUMMARY:Not For Profit by Portland Mercado
DESCRIPTION:OPEN FOR ACCOUNTING STUDENTS ONLY
URL:https://www.osubap.com/event/not-for-profit-by-portland-mercado/
LOCATION:Austin Hall 183\, SW Jefferson Way\, Corvallis\, United States
END:VEVENT
BEGIN:VEVENT
DTSTART;TZID=America/Los_Angeles:20190409T180000
DTEND;TZID=America/Los_Angeles:20190409T190000
DTSTAMP:20260423T203054
CREATED:20190407T231147Z
LAST-MODIFIED:20190407T231147Z
UID:3466-1554832800-1554836400@www.osubap.com
SUMMARY:Joint Meeting with BIS Club
DESCRIPTION:
URL:https://www.osubap.com/event/joint-meeting-with-bis-club/
LOCATION:Austin Hall 226\, 2751 SW Jefferson Way\, Corvallis\, OR\, United States
END:VEVENT
BEGIN:VEVENT
DTSTART;TZID=America/Los_Angeles:20190306T180000
DTEND;TZID=America/Los_Angeles:20190306T190000
DTSTAMP:20260423T203054
CREATED:20181228T035414Z
LAST-MODIFIED:20181228T035414Z
UID:3289-1551895200-1551898800@www.osubap.com
SUMMARY:Moss Adams
DESCRIPTION:
URL:https://www.osubap.com/event/moss-adams/
LOCATION:TBA
END:VEVENT
BEGIN:VEVENT
DTSTART;TZID=America/Los_Angeles:20190227T180000
DTEND;TZID=America/Los_Angeles:20190227T190000
DTSTAMP:20260423T203054
CREATED:20181228T035314Z
LAST-MODIFIED:20181228T035314Z
UID:3287-1551290400-1551294000@www.osubap.com
SUMMARY:U of O meeting
DESCRIPTION:
URL:https://www.osubap.com/event/u-of-o-meeting/
LOCATION:TBA
END:VEVENT
BEGIN:VEVENT
DTSTART;TZID=America/Los_Angeles:20190220T180000
DTEND;TZID=America/Los_Angeles:20190220T190000
DTSTAMP:20260423T203054
CREATED:20181228T035130Z
LAST-MODIFIED:20190216T181607Z
UID:3284-1550685600-1550689200@www.osubap.com
SUMMARY:Women in Leadership by Moss Adams
DESCRIPTION:
URL:https://www.osubap.com/event/bap-ima-social/
LOCATION:TBA
END:VEVENT
BEGIN:VEVENT
DTSTART;TZID=America/Los_Angeles:20190213T180000
DTEND;TZID=America/Los_Angeles:20190213T190000
DTSTAMP:20260423T203054
CREATED:20181228T034955Z
LAST-MODIFIED:20181228T034955Z
UID:3282-1550080800-1550084400@www.osubap.com
SUMMARY:How to be a mentor by Mentor 360
DESCRIPTION:
URL:https://www.osubap.com/event/how-to-be-a-mentor-by-mentor-360/
LOCATION:Austin Hall 226\, 2751 SW Jefferson Way\, Corvallis\, OR\, United States
END:VEVENT
BEGIN:VEVENT
DTSTART;TZID=America/Los_Angeles:20190206T180000
DTEND;TZID=America/Los_Angeles:20190206T190000
DTSTAMP:20260423T203054
CREATED:20181228T034839Z
LAST-MODIFIED:20181228T034839Z
UID:3280-1549476000-1549479600@www.osubap.com
SUMMARY:Perkins & Co.
DESCRIPTION:
URL:https://www.osubap.com/event/perkins-co/
LOCATION:Austin Hall 226\, 2751 SW Jefferson Way\, Corvallis\, OR\, United States
END:VEVENT
BEGIN:VEVENT
DTSTART;TZID=America/Los_Angeles:20190130T180000
DTEND;TZID=America/Los_Angeles:20190130T190000
DTSTAMP:20260423T203054
CREATED:20181228T034713Z
LAST-MODIFIED:20181228T034713Z
UID:3275-1548871200-1548874800@www.osubap.com
SUMMARY:Pink Fraud
DESCRIPTION:
URL:https://www.osubap.com/event/pink-fraud/
LOCATION:Austin Hall 226\, 2751 SW Jefferson Way\, Corvallis\, OR\, United States
END:VEVENT
BEGIN:VEVENT
DTSTART;TZID=America/Los_Angeles:20190123T180000
DTEND;TZID=America/Los_Angeles:20190123T190000
DTSTAMP:20260423T203054
CREATED:20181228T034503Z
LAST-MODIFIED:20181228T034503Z
UID:3273-1548266400-1548270000@www.osubap.com
SUMMARY:Summer Leadership Panel
DESCRIPTION:Various Accounting Firms of Oregon.
URL:https://www.osubap.com/event/summer-leadership-panel/
LOCATION:Austin Hall 226\, 2751 SW Jefferson Way\, Corvallis\, OR\, United States
END:VEVENT
BEGIN:VEVENT
DTSTART;TZID=America/Los_Angeles:20190116T180000
DTEND;TZID=America/Los_Angeles:20190116T190000
DTSTAMP:20260423T203054
CREATED:20181228T034344Z
LAST-MODIFIED:20181228T034533Z
UID:3271-1547661600-1547665200@www.osubap.com
SUMMARY:Tax Symposium
DESCRIPTION:Tax Experts from various firms will be joining our meeting in form of a panel discussion.
URL:https://www.osubap.com/event/tax-symposium/
LOCATION:Austin Hall 183\, SW Jefferson Way\, Corvallis\, United States
END:VEVENT
BEGIN:VEVENT
DTSTART;TZID=America/Los_Angeles:20190109T180000
DTEND;TZID=America/Los_Angeles:20190109T190000
DTSTAMP:20260423T203054
CREATED:20181228T034125Z
LAST-MODIFIED:20181228T034125Z
UID:3269-1547056800-1547060400@www.osubap.com
SUMMARY:Work/Life Balance  - Kernutt Stokes
DESCRIPTION:
URL:https://www.osubap.com/event/work-life-balance-kernutt-stokes/
LOCATION:Austin Hall 226\, 2751 SW Jefferson Way\, Corvallis\, OR\, United States
END:VEVENT
BEGIN:VEVENT
DTSTART;TZID=America/Los_Angeles:20181128T170000
DTEND;TZID=America/Los_Angeles:20181128T190000
DTSTAMP:20260423T203054
CREATED:20180921T053914Z
LAST-MODIFIED:20181025T182456Z
UID:3131-1543424400-1543431600@www.osubap.com
SUMMARY:Alaska Airlines (Members Only)
DESCRIPTION:
URL:https://www.osubap.com/event/alaska-airlines-members-only/
LOCATION:Austin Hall 226\, 2751 SW Jefferson Way\, Corvallis\, OR\, United States
END:VEVENT
BEGIN:VEVENT
DTSTART;TZID=America/Los_Angeles:20181121T180000
DTEND;TZID=America/Los_Angeles:20181121T190000
DTSTAMP:20260423T203054
CREATED:20180921T054337Z
LAST-MODIFIED:20180921T054337Z
UID:3138-1542823200-1542826800@www.osubap.com
SUMMARY:Thanksgiving
DESCRIPTION:
URL:https://www.osubap.com/event/thanksgiving/
END:VEVENT
BEGIN:VEVENT
DTSTART;TZID=America/Los_Angeles:20181114T180000
DTEND;TZID=America/Los_Angeles:20181114T190000
DTSTAMP:20260423T203054
CREATED:20180921T054234Z
LAST-MODIFIED:20181025T182612Z
UID:3135-1542218400-1542222000@www.osubap.com
SUMMARY:KPMG (Members Only) - Building an effective Network
DESCRIPTION:
URL:https://www.osubap.com/event/kpmg-member-only/
LOCATION:Austin Hall 226\, 2751 SW Jefferson Way\, Corvallis\, OR\, United States
END:VEVENT
BEGIN:VEVENT
DTSTART;TZID=America/Los_Angeles:20181107T180000
DTEND;TZID=America/Los_Angeles:20181107T190000
DTSTAMP:20260423T203054
CREATED:20180921T054040Z
LAST-MODIFIED:20180921T054117Z
UID:3133-1541613600-1541617200@www.osubap.com
SUMMARY:PWC - Personal Finance (Member Only)
DESCRIPTION:
URL:https://www.osubap.com/event/pwc-personal-finance-member-only/
LOCATION:Austin Hall 226\, 2751 SW Jefferson Way\, Corvallis\, OR\, United States
END:VEVENT
BEGIN:VEVENT
DTSTART;TZID=America/Los_Angeles:20181024T180000
DTEND;TZID=America/Los_Angeles:20181024T190000
DTSTAMP:20260423T203054
CREATED:20180921T053418Z
LAST-MODIFIED:20181021T005739Z
UID:3127-1540404000-1540407600@www.osubap.com
SUMMARY:Meet the Professors (Open to all Acct students)
DESCRIPTION:
URL:https://www.osubap.com/event/meet-the-professors-open-to-all-acct-students/
LOCATION:Austin Hall 226\, 2751 SW Jefferson Way\, Corvallis\, OR\, United States
END:VEVENT
BEGIN:VEVENT
DTSTART;TZID=America/Los_Angeles:20181017T180000
DTEND;TZID=America/Los_Angeles:20181017T190000
DTSTAMP:20260423T203054
CREATED:20180921T052953Z
LAST-MODIFIED:20181019T193203Z
UID:3123-1539799200-1539802800@www.osubap.com
SUMMARY:Diversity & Inclusion
DESCRIPTION:Presenter: Lawrence Houston III
URL:https://www.osubap.com/event/moss-adams-diversity-inclusion/
LOCATION:Austin Hall 183\, SW Jefferson Way\, Corvallis\, United States
END:VEVENT
BEGIN:VEVENT
DTSTART;TZID=America/Los_Angeles:20181010T180000
DTEND;TZID=America/Los_Angeles:20181010T200000
DTSTAMP:20260423T203054
CREATED:20180921T052344Z
LAST-MODIFIED:20180921T053532Z
UID:3121-1539194400-1539201600@www.osubap.com
SUMMARY:Deloitte - Interviewing Skills (Member Only)
DESCRIPTION:
URL:https://www.osubap.com/event/deloitte-interviewing-skills/
LOCATION:Austin Hall 226\, 2751 SW Jefferson Way\, Corvallis\, OR\, United States
END:VEVENT
BEGIN:VEVENT
DTSTART;TZID=America/Los_Angeles:20181003T180000
DTEND;TZID=America/Los_Angeles:20181003T200000
DTSTAMP:20260423T203054
CREATED:20180921T051029Z
LAST-MODIFIED:20180925T062349Z
UID:3114-1538589600-1538596800@www.osubap.com
SUMMARY:Meet the Firms
DESCRIPTION:Meet the Firms\, Wed. Oct. 3rd\, 6-8pm (come and go)\, MU Ballroom\, Business Professional.  This is an Accounting Professional networking event. The event is a business professional and all accounting/BIS/Finance students are welcome.  We will host Mock Interviews during the day.  Please attend the BAP/IMA meeting this week “Recruiters Panel” to learn more details about Mock Interviews and the resume submission for MTF’s. \nParticipants:\nAldrich CPA’s\nBecker Professional Review\nBerntson Porter &Company\, PLLC\nBoldt Carlisle &Smith\nByzick &Co\nCorVel\nDelap\nDeloitte\nState of Oregon\nGeffen Mesher &Co\nIMA\nIsler CPA\nJohn Borden CPA\nJones & Roth\nKernutt Stokes – (Eugene – winter internship)\nKPMG LLp\nKuenzi & Co LLC\nMoss Adams\nOregon Secretary of State Audit Division\nOSU- Audit Services\nOSU Grad Business Programs\nOSCPA\nPrecision Castparts\nPWC\nRoger CPA\nTax & Wealth Management (Corvallis – Winter internship)\nUofO Macc Program\nWiley CPA\nHarwood\,\nMacAdam\,\nWartnik Fisher& Gorman LLC.
URL:https://www.osubap.com/event/meet-the-firms/
LOCATION:MU Ballroom\, 2501 SW Jefferson Way\, Corvallis\, OR\, United States
END:VEVENT
BEGIN:VEVENT
DTSTART;TZID=America/Los_Angeles:20180926T180000
DTEND;TZID=America/Los_Angeles:20180926T193000
DTSTAMP:20260423T203054
CREATED:20180921T050054Z
LAST-MODIFIED:20180922T041900Z
UID:3108-1537984800-1537990200@www.osubap.com
SUMMARY:Recruiter Panel
DESCRIPTION:Attendees:\nRecruiters Panel\, Wed. Sept. 26th 6-7:30 pm\, AH 183\, business casual.  The following firms participating: Aldrich\, Moss Adams\, PwC\, KPMG\, Deloitte\, Kernutt Stokes\, Jones\, and Roth & Perkins & Co.  This is an information session that should explain the recruiting process\, the opportunities offered\, how to apply\, etc..  It is worth attending just to learn what’s available even if the student would not apply until the following fall. Applications for internships (summer 2019) and full time (Sept 2019) are due Friday the second week of the term.
URL:https://www.osubap.com/event/recruiter-panel/
LOCATION:Austin Hall 183\, SW Jefferson Way\, Corvallis\, United States
END:VEVENT
END:VCALENDAR