BEGIN:VCALENDAR
VERSION:2.0
PRODID:-//Beta Alpha Psi - ECPv6.14.1//NONSGML v1.0//EN
CALSCALE:GREGORIAN
METHOD:PUBLISH
X-ORIGINAL-URL:https://www.osubap.com
X-WR-CALDESC:Events for Beta Alpha Psi
REFRESH-INTERVAL;VALUE=DURATION:PT1H
X-Robots-Tag:noindex
X-PUBLISHED-TTL:PT1H
BEGIN:VTIMEZONE
TZID:America/Los_Angeles
BEGIN:DAYLIGHT
TZOFFSETFROM:-0800
TZOFFSETTO:-0700
TZNAME:PDT
DTSTART:20190310T100000
END:DAYLIGHT
BEGIN:STANDARD
TZOFFSETFROM:-0700
TZOFFSETTO:-0800
TZNAME:PST
DTSTART:20191103T090000
END:STANDARD
BEGIN:DAYLIGHT
TZOFFSETFROM:-0800
TZOFFSETTO:-0700
TZNAME:PDT
DTSTART:20200308T100000
END:DAYLIGHT
BEGIN:STANDARD
TZOFFSETFROM:-0700
TZOFFSETTO:-0800
TZNAME:PST
DTSTART:20201101T090000
END:STANDARD
BEGIN:DAYLIGHT
TZOFFSETFROM:-0800
TZOFFSETTO:-0700
TZNAME:PDT
DTSTART:20210314T100000
END:DAYLIGHT
BEGIN:STANDARD
TZOFFSETFROM:-0700
TZOFFSETTO:-0800
TZNAME:PST
DTSTART:20211107T090000
END:STANDARD
END:VTIMEZONE
BEGIN:VEVENT
DTSTART;TZID=America/Los_Angeles:20210113T180000
DTEND;TZID=America/Los_Angeles:20210113T190000
DTSTAMP:20260423T191633
CREATED:20210111T021647Z
LAST-MODIFIED:20210111T021647Z
UID:4133-1610560800-1610564400@www.osubap.com
SUMMARY:What is Tax?
DESCRIPTION:Presented by: Kernutt Stokes
URL:https://www.osubap.com/event/what-is-tax/
END:VEVENT
BEGIN:VEVENT
DTSTART;TZID=America/Los_Angeles:20210106T180000
DTEND;TZID=America/Los_Angeles:20210106T190000
DTSTAMP:20260423T191633
CREATED:20210111T021531Z
LAST-MODIFIED:20210111T021531Z
UID:4131-1609956000-1609959600@www.osubap.com
SUMMARY:Big Data and Blockchain
DESCRIPTION:Presented by: Todd Hood\, Maryland Association of CPAs
URL:https://www.osubap.com/event/big-data-and-blockchain/
END:VEVENT
BEGIN:VEVENT
DTSTART;TZID=America/Los_Angeles:20201202T180000
DTEND;TZID=America/Los_Angeles:20201202T190000
DTSTAMP:20260423T191633
CREATED:20201022T181008Z
LAST-MODIFIED:20201022T181008Z
UID:4018-1606932000-1606935600@www.osubap.com
SUMMARY:No Meeting
DESCRIPTION:Study hard for finals!
URL:https://www.osubap.com/event/no-meeting-3/
END:VEVENT
BEGIN:VEVENT
DTSTART;TZID=America/Los_Angeles:20201125T180000
DTEND;TZID=America/Los_Angeles:20201125T190000
DTSTAMP:20260423T191633
CREATED:20201022T180836Z
LAST-MODIFIED:20201022T180836Z
UID:4016-1606327200-1606330800@www.osubap.com
SUMMARY:No Meeting
DESCRIPTION:N/A
URL:https://www.osubap.com/event/no-meeting-2/
END:VEVENT
BEGIN:VEVENT
DTSTART;TZID=America/Los_Angeles:20201118T180000
DTEND;TZID=America/Los_Angeles:20201118T190000
DTSTAMP:20260423T191633
CREATED:20201022T180742Z
LAST-MODIFIED:20201022T181655Z
UID:4014-1605722400-1605726000@www.osubap.com
SUMMARY:Opportunities in Industry
DESCRIPTION:Presented by: Precision Castparts — Open to all Accounting students!
URL:https://www.osubap.com/event/opportunities-in-industry/
END:VEVENT
BEGIN:VEVENT
DTSTART;TZID=America/Los_Angeles:20201111T180000
DTEND;TZID=America/Los_Angeles:20201111T190000
DTSTAMP:20260423T191633
CREATED:20201022T180612Z
LAST-MODIFIED:20201110T170727Z
UID:4012-1605117600-1605121200@www.osubap.com
SUMMARY:No Meeting
DESCRIPTION:N/A
URL:https://www.osubap.com/event/diversity-and-inclusion/
END:VEVENT
BEGIN:VEVENT
DTSTART;TZID=America/Los_Angeles:20201104T180000
DTEND;TZID=America/Los_Angeles:20201104T190000
DTSTAMP:20260423T191633
CREATED:20201022T180331Z
LAST-MODIFIED:20201022T180331Z
UID:4009-1604512800-1604516400@www.osubap.com
SUMMARY:No Meeting
DESCRIPTION:Good luck on midterms!
URL:https://www.osubap.com/event/no-meeting/
END:VEVENT
BEGIN:VEVENT
DTSTART;TZID=America/Los_Angeles:20201028T180000
DTEND;TZID=America/Los_Angeles:20201028T190000
DTSTAMP:20260423T191633
CREATED:20201022T175552Z
LAST-MODIFIED:20201022T175552Z
UID:4006-1603908000-1603911600@www.osubap.com
SUMMARY:New Techs Prevalence in the Accounting Industry
DESCRIPTION:Presented by: PwC
URL:https://www.osubap.com/event/new-techs-prevalence-in-the-accounting-industry/
END:VEVENT
BEGIN:VEVENT
DTSTART;TZID=America/Los_Angeles:20201021T180000
DTEND;TZID=America/Los_Angeles:20201021T190000
DTSTAMP:20260423T191633
CREATED:20201022T175306Z
LAST-MODIFIED:20201022T180036Z
UID:4004-1603303200-1603306800@www.osubap.com
SUMMARY:Navigating the Job Hiring Process
DESCRIPTION:Presented by: Tax & Wealth Management
URL:https://www.osubap.com/event/navigating-the-job-hiring-process/
END:VEVENT
BEGIN:VEVENT
DTSTART;TZID=America/Los_Angeles:20201014T180000
DTEND;TZID=America/Los_Angeles:20201014T190000
DTSTAMP:20260423T191633
CREATED:20201022T175112Z
LAST-MODIFIED:20201022T175112Z
UID:4002-1602698400-1602702000@www.osubap.com
SUMMARY:The Difference Between Audit\, Risk\, and Tax
DESCRIPTION:Presented by: Grant Thornton
URL:https://www.osubap.com/event/the-difference-between-audit-risk-and-tax/
END:VEVENT
BEGIN:VEVENT
DTSTART;TZID=America/Los_Angeles:20201007T180000
DTEND;TZID=America/Los_Angeles:20201007T200000
DTSTAMP:20260423T191633
CREATED:20201022T174810Z
LAST-MODIFIED:20201022T174810Z
UID:4000-1602093600-1602100800@www.osubap.com
SUMMARY:Virtual Meet the Firms
DESCRIPTION:
URL:https://www.osubap.com/event/virtual-meet-the-firms/
END:VEVENT
BEGIN:VEVENT
DTSTART;TZID=America/Los_Angeles:20200930T180000
DTEND;TZID=America/Los_Angeles:20200930T190000
DTSTAMP:20260423T191633
CREATED:20201022T174607Z
LAST-MODIFIED:20201022T174607Z
UID:3998-1601488800-1601492400@www.osubap.com
SUMMARY:Meet the Firms Prep
DESCRIPTION:Presented by: Delap\, Geffen Mesher\, Jones & Roth\, Kernutt Stokes\, and Perkins & Co
URL:https://www.osubap.com/event/meet-the-firms-prep/
END:VEVENT
BEGIN:VEVENT
DTSTART;TZID=America/Los_Angeles:20191204T180000
DTEND;TZID=America/Los_Angeles:20191204T190000
DTSTAMP:20260423T191633
CREATED:20190926T175731Z
LAST-MODIFIED:20190926T175731Z
UID:3652-1575482400-1575486000@www.osubap.com
SUMMARY:Stress Management
DESCRIPTION:Presented by: Perkins & Co.
URL:https://www.osubap.com/event/stress-management/
END:VEVENT
BEGIN:VEVENT
DTSTART;TZID=America/Los_Angeles:20191120T180000
DTEND;TZID=America/Los_Angeles:20191120T200000
DTSTAMP:20260423T191633
CREATED:20190926T175613Z
LAST-MODIFIED:20191105T202926Z
UID:3650-1574272800-1574280000@www.osubap.com
SUMMARY:IMA Meeting
DESCRIPTION:Organized by Ian Watters
URL:https://www.osubap.com/event/ima-meeting/
LOCATION:TBA
END:VEVENT
BEGIN:VEVENT
DTSTART;TZID=America/Los_Angeles:20191113T180000
DTEND;TZID=America/Los_Angeles:20191113T190000
DTSTAMP:20260423T191633
CREATED:20190926T175517Z
LAST-MODIFIED:20190926T175517Z
UID:3648-1573668000-1573671600@www.osubap.com
SUMMARY:Forensic Accounting
DESCRIPTION:Presented by: Jay Sickler\, Mentor 360\, Elise Hohensee
URL:https://www.osubap.com/event/forensic-accounting/
LOCATION:TBA
END:VEVENT
BEGIN:VEVENT
DTSTART;TZID=America/Los_Angeles:20191106T180000
DTEND;TZID=America/Los_Angeles:20191106T190000
DTSTAMP:20260423T191633
CREATED:20190926T175425Z
LAST-MODIFIED:20190926T175425Z
UID:3646-1573063200-1573066800@www.osubap.com
SUMMARY:AIS Meeting
DESCRIPTION:Presented by: KPMG\, EY\, SAP\, Intel (tentative presenters)
URL:https://www.osubap.com/event/ais-meeting/
LOCATION:TBA
END:VEVENT
BEGIN:VEVENT
DTSTART;TZID=America/Los_Angeles:20191023T180000
DTEND;TZID=America/Los_Angeles:20191023T190000
DTSTAMP:20260423T191633
CREATED:20190926T175306Z
LAST-MODIFIED:20190926T175319Z
UID:3643-1571853600-1571857200@www.osubap.com
SUMMARY:Benefits of a Regional Firm
DESCRIPTION:Presented by: Kernutt Stokes\, Jones & Roth
URL:https://www.osubap.com/event/benefits-of-a-regional-firm/
LOCATION:TBA
END:VEVENT
BEGIN:VEVENT
DTSTART;TZID=America/Los_Angeles:20191016T180000
DTEND;TZID=America/Los_Angeles:20191016T190000
DTSTAMP:20260423T191633
CREATED:20190926T175159Z
LAST-MODIFIED:20190926T175159Z
UID:3641-1571248800-1571252400@www.osubap.com
SUMMARY:What to Expect in an Interview
DESCRIPTION:Presented by: Deloitte
URL:https://www.osubap.com/event/what-to-expect-in-an-interview/
LOCATION:TBA
END:VEVENT
BEGIN:VEVENT
DTSTART;TZID=America/Los_Angeles:20191009T180000
DTEND;TZID=America/Los_Angeles:20191009T200000
DTSTAMP:20260423T191633
CREATED:20190926T175035Z
LAST-MODIFIED:20190926T175035Z
UID:3639-1570644000-1570651200@www.osubap.com
SUMMARY:Meet the Firms!
DESCRIPTION:
URL:https://www.osubap.com/event/meet-the-firms-2/
LOCATION:MU Ballroom\, 2501 SW Jefferson Way\, Corvallis\, OR\, United States
END:VEVENT
BEGIN:VEVENT
DTSTART;TZID=America/Los_Angeles:20191002T180000
DTEND;TZID=America/Los_Angeles:20191002T190000
DTSTAMP:20260423T191633
CREATED:20190926T174952Z
LAST-MODIFIED:20190926T174952Z
UID:3637-1570039200-1570042800@www.osubap.com
SUMMARY:Preparing for Fall Recruiting
DESCRIPTION:Tentative Attendees: PWC\, KPMG\, EY\, Deloitte\, Moss Adams\, Kernutt Stokes\, Jones & Roth\, Perkins & Co.
URL:https://www.osubap.com/event/preparing-for-fall-recruiting/
LOCATION:TBA
END:VEVENT
BEGIN:VEVENT
DTSTART;TZID=America/Los_Angeles:20190529T180000
DTEND;TZID=America/Los_Angeles:20190529T190000
DTSTAMP:20260423T191633
CREATED:20190407T232808Z
LAST-MODIFIED:20190407T232808Z
UID:3481-1559152800-1559156400@www.osubap.com
SUMMARY:Preparing for Fall Recruiting by Aldrich
DESCRIPTION:Open for Everyone.
URL:https://www.osubap.com/event/preparing-for-fall-recruiting-by-aldrich/
LOCATION:Austin Hall 183\, SW Jefferson Way\, Corvallis\, United States
END:VEVENT
BEGIN:VEVENT
DTSTART;TZID=America/Los_Angeles:20190522T180000
DTEND;TZID=America/Los_Angeles:20190522T190000
DTSTAMP:20260423T191633
CREATED:20190407T232649Z
LAST-MODIFIED:20190407T232649Z
UID:3479-1558548000-1558551600@www.osubap.com
SUMMARY:Women in Leadership by Moss Adams
DESCRIPTION:Joint with Women in Leadership Club. Open to BAP member only.
URL:https://www.osubap.com/event/women-in-leadership-by-moss-adams/
LOCATION:Austin Hall 226\, 2751 SW Jefferson Way\, Corvallis\, OR\, United States
END:VEVENT
BEGIN:VEVENT
DTSTART;TZID=America/Los_Angeles:20190515T180000
DTEND;TZID=America/Los_Angeles:20190515T200000
DTSTAMP:20260423T191633
CREATED:20190407T232457Z
LAST-MODIFIED:20190407T232457Z
UID:3477-1557943200-1557950400@www.osubap.com
SUMMARY:Spring Banquet
DESCRIPTION:For Accounting Students
URL:https://www.osubap.com/event/spring-banquet/
LOCATION:TBA
END:VEVENT
BEGIN:VEVENT
DTSTART;TZID=America/Los_Angeles:20190515T100000
DTEND;TZID=America/Los_Angeles:20190515T130000
DTSTAMP:20260423T191633
CREATED:20190119T011910Z
LAST-MODIFIED:20190119T011910Z
UID:3331-1557914400-1557925200@www.osubap.com
SUMMARY:College of Business - Meet the Firms
DESCRIPTION:
URL:https://www.osubap.com/event/college-of-business-meet-the-firms/
END:VEVENT
BEGIN:VEVENT
DTSTART;TZID=America/Los_Angeles:20190508T180000
DTEND;TZID=America/Los_Angeles:20190508T190000
DTSTAMP:20260423T191633
CREATED:20190407T232234Z
LAST-MODIFIED:20190419T084208Z
UID:3474-1557338400-1557342000@www.osubap.com
SUMMARY:Professional Certification Workshop
DESCRIPTION:Only for BAP Members.
URL:https://www.osubap.com/event/cpa-panel-by-becker-roger-cpa-review/
LOCATION:Austin Hall 226\, 2751 SW Jefferson Way\, Corvallis\, OR\, United States
END:VEVENT
BEGIN:VEVENT
DTSTART;TZID=America/Los_Angeles:20190501T180000
DTEND;TZID=America/Los_Angeles:20190501T190000
DTSTAMP:20260423T191633
CREATED:20190407T231954Z
LAST-MODIFIED:20190407T231954Z
UID:3472-1556733600-1556737200@www.osubap.com
SUMMARY:Data Analytics by Ernst & Young
DESCRIPTION:Joint meeting with BIS club and Open to Everyone
URL:https://www.osubap.com/event/data-analytics-by-ernst-young/
LOCATION:Austin Hall 183\, SW Jefferson Way\, Corvallis\, United States
END:VEVENT
BEGIN:VEVENT
DTSTART;TZID=America/Los_Angeles:20190424T180000
DTEND;TZID=America/Los_Angeles:20190424T190000
DTSTAMP:20260423T191633
CREATED:20190407T231800Z
LAST-MODIFIED:20190407T231800Z
UID:3470-1556128800-1556132400@www.osubap.com
SUMMARY:Pathway to Partnership by Jones & Roth
DESCRIPTION:BAP Members Only Event
URL:https://www.osubap.com/event/pathway-to-partnership-by-jones-roth/
LOCATION:Austin Hall 226\, 2751 SW Jefferson Way\, Corvallis\, OR\, United States
END:VEVENT
BEGIN:VEVENT
DTSTART;TZID=America/Los_Angeles:20190417T180000
DTEND;TZID=America/Los_Angeles:20190417T190000
DTSTAMP:20260423T191633
CREATED:20190407T231537Z
LAST-MODIFIED:20190407T231537Z
UID:3468-1555524000-1555527600@www.osubap.com
SUMMARY:Not For Profit by Portland Mercado
DESCRIPTION:OPEN FOR ACCOUNTING STUDENTS ONLY
URL:https://www.osubap.com/event/not-for-profit-by-portland-mercado/
LOCATION:Austin Hall 183\, SW Jefferson Way\, Corvallis\, United States
END:VEVENT
BEGIN:VEVENT
DTSTART;TZID=America/Los_Angeles:20190409T180000
DTEND;TZID=America/Los_Angeles:20190409T190000
DTSTAMP:20260423T191633
CREATED:20190407T231147Z
LAST-MODIFIED:20190407T231147Z
UID:3466-1554832800-1554836400@www.osubap.com
SUMMARY:Joint Meeting with BIS Club
DESCRIPTION:
URL:https://www.osubap.com/event/joint-meeting-with-bis-club/
LOCATION:Austin Hall 226\, 2751 SW Jefferson Way\, Corvallis\, OR\, United States
END:VEVENT
BEGIN:VEVENT
DTSTART;TZID=America/Los_Angeles:20190306T180000
DTEND;TZID=America/Los_Angeles:20190306T190000
DTSTAMP:20260423T191633
CREATED:20181228T035414Z
LAST-MODIFIED:20181228T035414Z
UID:3289-1551895200-1551898800@www.osubap.com
SUMMARY:Moss Adams
DESCRIPTION:
URL:https://www.osubap.com/event/moss-adams/
LOCATION:TBA
END:VEVENT
END:VCALENDAR