BEGIN:VCALENDAR
VERSION:2.0
PRODID:-//Beta Alpha Psi - ECPv6.14.1//NONSGML v1.0//EN
CALSCALE:GREGORIAN
METHOD:PUBLISH
X-WR-CALNAME:Beta Alpha Psi
X-ORIGINAL-URL:https://www.osubap.com
X-WR-CALDESC:Events for Beta Alpha Psi
REFRESH-INTERVAL;VALUE=DURATION:PT1H
X-Robots-Tag:noindex
X-PUBLISHED-TTL:PT1H
BEGIN:VTIMEZONE
TZID:America/Los_Angeles
BEGIN:DAYLIGHT
TZOFFSETFROM:-0800
TZOFFSETTO:-0700
TZNAME:PDT
DTSTART:20200308T100000
END:DAYLIGHT
BEGIN:STANDARD
TZOFFSETFROM:-0700
TZOFFSETTO:-0800
TZNAME:PST
DTSTART:20201101T090000
END:STANDARD
BEGIN:DAYLIGHT
TZOFFSETFROM:-0800
TZOFFSETTO:-0700
TZNAME:PDT
DTSTART:20210314T100000
END:DAYLIGHT
BEGIN:STANDARD
TZOFFSETFROM:-0700
TZOFFSETTO:-0800
TZNAME:PST
DTSTART:20211107T090000
END:STANDARD
END:VTIMEZONE
BEGIN:VEVENT
DTSTART;TZID=America/Los_Angeles:20210916T160000
DTEND;TZID=America/Los_Angeles:20210916T180000
DTSTAMP:20260423T180520
CREATED:20210820T170526Z
LAST-MODIFIED:20210820T170526Z
UID:4454-1631808000-1631815200@www.osubap.com
SUMMARY:Fall Recruiting Kickoff -- Joint event with PSU and UofO
DESCRIPTION:Please register here \nhttps://portlandstate.joinhandshake.com/career_fairs/26129/student_preview?token=DbVLPHo1_Ecz5zUM8-pMZ_IQFaXHvwAuFnwu7_bX3nCPRedTsZUL_w
URL:https://www.osubap.com/event/fall-recruiting-kickoff-joint-event-with-psu-and-uofo/
END:VEVENT
BEGIN:VEVENT
DTSTART;TZID=America/Los_Angeles:20210602T180000
DTEND;TZID=America/Los_Angeles:20210602T190000
DTSTAMP:20260423T180520
CREATED:20210329T031153Z
LAST-MODIFIED:20210329T183828Z
UID:4288-1622656800-1622660400@www.osubap.com
SUMMARY:No Meeting
DESCRIPTION:Have a great summer!
URL:https://www.osubap.com/event/no-meeting-7/
END:VEVENT
BEGIN:VEVENT
DTSTART;TZID=America/Los_Angeles:20210526T180000
DTEND;TZID=America/Los_Angeles:20210526T190000
DTSTAMP:20260423T180520
CREATED:20210329T031124Z
LAST-MODIFIED:20210520T002842Z
UID:4286-1622052000-1622055600@www.osubap.com
SUMMARY:How to Prepare for Fall Recruiting
DESCRIPTION:Presented by: Grant Thornton and Perkins & Co
URL:https://www.osubap.com/event/no-meeting-6/
END:VEVENT
BEGIN:VEVENT
DTSTART;TZID=America/Los_Angeles:20210519T180000
DTEND;TZID=America/Los_Angeles:20210519T190000
DTSTAMP:20260423T180520
CREATED:20210329T030957Z
LAST-MODIFIED:20210520T002809Z
UID:4284-1621447200-1621450800@www.osubap.com
SUMMARY:No Meeting
DESCRIPTION:N/A
URL:https://www.osubap.com/event/how-to-prepare-for-fall-recruiting/
END:VEVENT
BEGIN:VEVENT
DTSTART;TZID=America/Los_Angeles:20210519T163000
DTEND;TZID=America/Los_Angeles:20210519T173000
DTSTAMP:20260423T180520
CREATED:20210329T184435Z
LAST-MODIFIED:20210329T184435Z
UID:4302-1621441800-1621445400@www.osubap.com
SUMMARY:Accounting Banquet
DESCRIPTION:
URL:https://www.osubap.com/event/accounting-banquet/
END:VEVENT
BEGIN:VEVENT
DTSTART;TZID=America/Los_Angeles:20210512T180000
DTEND;TZID=America/Los_Angeles:20210512T190000
DTSTAMP:20260423T180520
CREATED:20210329T030923Z
LAST-MODIFIED:20210329T183858Z
UID:4282-1620842400-1620846000@www.osubap.com
SUMMARY:Stress Management
DESCRIPTION:Presented by: Deloitte
URL:https://www.osubap.com/event/stress-management-2/
END:VEVENT
BEGIN:VEVENT
DTSTART;TZID=America/Los_Angeles:20210505T180000
DTEND;TZID=America/Los_Angeles:20210505T190000
DTSTAMP:20260423T180520
CREATED:20210329T030855Z
LAST-MODIFIED:20210430T174252Z
UID:4280-1620237600-1620241200@www.osubap.com
SUMMARY:Governmental Accounting
DESCRIPTION:Presented by: Brad Cunningham\, Department of Administrative Services
URL:https://www.osubap.com/event/ima-meeting-spring-accounting-banquet/
END:VEVENT
BEGIN:VEVENT
DTSTART;TZID=America/Los_Angeles:20210428T180000
DTEND;TZID=America/Los_Angeles:20210428T190000
DTSTAMP:20260423T180520
CREATED:20210329T030825Z
LAST-MODIFIED:20210329T183938Z
UID:4278-1619632800-1619636400@www.osubap.com
SUMMARY:Accounting Information Systems
DESCRIPTION:Presented by: PwC
URL:https://www.osubap.com/event/accounting-information-systems/
END:VEVENT
BEGIN:VEVENT
DTSTART;TZID=America/Los_Angeles:20210421T180000
DTEND;TZID=America/Los_Angeles:20210421T190000
DTSTAMP:20260423T180520
CREATED:20210329T030759Z
LAST-MODIFIED:20210430T174349Z
UID:4276-1619028000-1619031600@www.osubap.com
SUMMARY:Forensic Accounting
DESCRIPTION:Presented by: Jay Sickler\, Cogence Group
URL:https://www.osubap.com/event/forensic-accounting-2/
END:VEVENT
BEGIN:VEVENT
DTSTART;TZID=America/Los_Angeles:20210414T180000
DTEND;TZID=America/Los_Angeles:20210414T190000
DTSTAMP:20260423T180520
CREATED:20210329T030732Z
LAST-MODIFIED:20210329T184024Z
UID:4274-1618423200-1618426800@www.osubap.com
SUMMARY:Diversity & Inclusion
DESCRIPTION:Presented by: Perkins & Co
URL:https://www.osubap.com/event/diversity-inclusion/
END:VEVENT
BEGIN:VEVENT
DTSTART;TZID=America/Los_Angeles:20210407T180000
DTEND;TZID=America/Los_Angeles:20210407T190000
DTSTAMP:20260423T180520
CREATED:20210329T030701Z
LAST-MODIFIED:20210401T211714Z
UID:4272-1617818400-1617822000@www.osubap.com
SUMMARY:Managerial Accounting
DESCRIPTION:Presented by: IMA
URL:https://www.osubap.com/event/governmental-accounting/
END:VEVENT
BEGIN:VEVENT
DTSTART;TZID=America/Los_Angeles:20210331T180000
DTEND;TZID=America/Los_Angeles:20210331T190000
DTSTAMP:20260423T180520
CREATED:20210329T030600Z
LAST-MODIFIED:20210331T012802Z
UID:4270-1617213600-1617217200@www.osubap.com
SUMMARY:Workplace Life After College
DESCRIPTION:Presented by: Moss Adams\, PwC\, and Perkins & Co
URL:https://www.osubap.com/event/internal-audit/
END:VEVENT
BEGIN:VEVENT
DTSTART;TZID=America/Los_Angeles:20210310T180000
DTEND;TZID=America/Los_Angeles:20210310T190000
DTSTAMP:20260423T180520
CREATED:20210111T022311Z
LAST-MODIFIED:20210111T022311Z
UID:4150-1615399200-1615402800@www.osubap.com
SUMMARY:No Meeting
DESCRIPTION:Good luck on finals!
URL:https://www.osubap.com/event/no-meeting-5/
END:VEVENT
BEGIN:VEVENT
DTSTART;TZID=America/Los_Angeles:20210303T180000
DTEND;TZID=America/Los_Angeles:20210303T190000
DTSTAMP:20260423T180520
CREATED:20210111T022233Z
LAST-MODIFIED:20210303T235245Z
UID:4148-1614794400-1614798000@www.osubap.com
SUMMARY:No Meeting
DESCRIPTION:N/A
URL:https://www.osubap.com/event/diversity-and-inclusion-2/
END:VEVENT
BEGIN:VEVENT
DTSTART;TZID=America/Los_Angeles:20210224T180000
DTEND;TZID=America/Los_Angeles:20210224T190000
DTSTAMP:20260423T180520
CREATED:20210111T022150Z
LAST-MODIFIED:20210111T022150Z
UID:4146-1614189600-1614193200@www.osubap.com
SUMMARY:Common Mistakes CPAs Make Early in their Career
DESCRIPTION:Presented by: KPMG
URL:https://www.osubap.com/event/common-mistakes-cpas-make-early-in-their-career/
END:VEVENT
BEGIN:VEVENT
DTSTART;TZID=America/Los_Angeles:20210217T180000
DTEND;TZID=America/Los_Angeles:20210217T190000
DTSTAMP:20260423T180520
CREATED:20210111T022106Z
LAST-MODIFIED:20210218T021409Z
UID:4144-1613584800-1613588400@www.osubap.com
SUMMARY:No Meeting
DESCRIPTION:N/A
URL:https://www.osubap.com/event/learning-new-digital-tools/
END:VEVENT
BEGIN:VEVENT
DTSTART;TZID=America/Los_Angeles:20210210T180000
DTEND;TZID=America/Los_Angeles:20210210T190000
DTSTAMP:20260423T180520
CREATED:20210111T022031Z
LAST-MODIFIED:20210111T022031Z
UID:4142-1612980000-1612983600@www.osubap.com
SUMMARY:No Meeting
DESCRIPTION:N/A
URL:https://www.osubap.com/event/no-meeting-4/
END:VEVENT
BEGIN:VEVENT
DTSTART;TZID=America/Los_Angeles:20210203T180000
DTEND;TZID=America/Los_Angeles:20210203T190000
DTSTAMP:20260423T180520
CREATED:20210111T021909Z
LAST-MODIFIED:20210129T175640Z
UID:4140-1612375200-1612378800@www.osubap.com
SUMMARY:Summer Leadership Info Session Day 2
DESCRIPTION:Presented by Aldrich\, Ernst & Young\, Geffen Mesher\, Kernutt Stokes\, Moss Adams\, and PwC
URL:https://www.osubap.com/event/summer-leadership-info-session-day-2/
END:VEVENT
BEGIN:VEVENT
DTSTART;TZID=America/Los_Angeles:20210127T180000
DTEND;TZID=America/Los_Angeles:20210127T190000
DTSTAMP:20260423T180520
CREATED:20210111T021830Z
LAST-MODIFIED:20210127T033721Z
UID:4137-1611770400-1611774000@www.osubap.com
SUMMARY:Summer Leadership Info Session Day 1
DESCRIPTION:Presented by Delap\, Deloitte\, Grant Thornton\, Jones & Roth\, KPMG\, and Perkins & Co
URL:https://www.osubap.com/event/summer-leadership-info-session/
END:VEVENT
BEGIN:VEVENT
DTSTART;TZID=America/Los_Angeles:20210120T180000
DTEND;TZID=America/Los_Angeles:20210120T190000
DTSTAMP:20260423T180520
CREATED:20210111T021750Z
LAST-MODIFIED:20210111T021750Z
UID:4135-1611165600-1611169200@www.osubap.com
SUMMARY:CPA Certification Process
DESCRIPTION:Presented by: Jones & Roth
URL:https://www.osubap.com/event/cpa-certification-process/
END:VEVENT
BEGIN:VEVENT
DTSTART;TZID=America/Los_Angeles:20210113T180000
DTEND;TZID=America/Los_Angeles:20210113T190000
DTSTAMP:20260423T180520
CREATED:20210111T021647Z
LAST-MODIFIED:20210111T021647Z
UID:4133-1610560800-1610564400@www.osubap.com
SUMMARY:What is Tax?
DESCRIPTION:Presented by: Kernutt Stokes
URL:https://www.osubap.com/event/what-is-tax/
END:VEVENT
BEGIN:VEVENT
DTSTART;TZID=America/Los_Angeles:20210106T180000
DTEND;TZID=America/Los_Angeles:20210106T190000
DTSTAMP:20260423T180520
CREATED:20210111T021531Z
LAST-MODIFIED:20210111T021531Z
UID:4131-1609956000-1609959600@www.osubap.com
SUMMARY:Big Data and Blockchain
DESCRIPTION:Presented by: Todd Hood\, Maryland Association of CPAs
URL:https://www.osubap.com/event/big-data-and-blockchain/
END:VEVENT
BEGIN:VEVENT
DTSTART;TZID=America/Los_Angeles:20201202T180000
DTEND;TZID=America/Los_Angeles:20201202T190000
DTSTAMP:20260423T180520
CREATED:20201022T181008Z
LAST-MODIFIED:20201022T181008Z
UID:4018-1606932000-1606935600@www.osubap.com
SUMMARY:No Meeting
DESCRIPTION:Study hard for finals!
URL:https://www.osubap.com/event/no-meeting-3/
END:VEVENT
BEGIN:VEVENT
DTSTART;TZID=America/Los_Angeles:20201125T180000
DTEND;TZID=America/Los_Angeles:20201125T190000
DTSTAMP:20260423T180520
CREATED:20201022T180836Z
LAST-MODIFIED:20201022T180836Z
UID:4016-1606327200-1606330800@www.osubap.com
SUMMARY:No Meeting
DESCRIPTION:N/A
URL:https://www.osubap.com/event/no-meeting-2/
END:VEVENT
BEGIN:VEVENT
DTSTART;TZID=America/Los_Angeles:20201118T180000
DTEND;TZID=America/Los_Angeles:20201118T190000
DTSTAMP:20260423T180520
CREATED:20201022T180742Z
LAST-MODIFIED:20201022T181655Z
UID:4014-1605722400-1605726000@www.osubap.com
SUMMARY:Opportunities in Industry
DESCRIPTION:Presented by: Precision Castparts — Open to all Accounting students!
URL:https://www.osubap.com/event/opportunities-in-industry/
END:VEVENT
BEGIN:VEVENT
DTSTART;TZID=America/Los_Angeles:20201111T180000
DTEND;TZID=America/Los_Angeles:20201111T190000
DTSTAMP:20260423T180520
CREATED:20201022T180612Z
LAST-MODIFIED:20201110T170727Z
UID:4012-1605117600-1605121200@www.osubap.com
SUMMARY:No Meeting
DESCRIPTION:N/A
URL:https://www.osubap.com/event/diversity-and-inclusion/
END:VEVENT
BEGIN:VEVENT
DTSTART;TZID=America/Los_Angeles:20201104T180000
DTEND;TZID=America/Los_Angeles:20201104T190000
DTSTAMP:20260423T180520
CREATED:20201022T180331Z
LAST-MODIFIED:20201022T180331Z
UID:4009-1604512800-1604516400@www.osubap.com
SUMMARY:No Meeting
DESCRIPTION:Good luck on midterms!
URL:https://www.osubap.com/event/no-meeting/
END:VEVENT
BEGIN:VEVENT
DTSTART;TZID=America/Los_Angeles:20201028T180000
DTEND;TZID=America/Los_Angeles:20201028T190000
DTSTAMP:20260423T180520
CREATED:20201022T175552Z
LAST-MODIFIED:20201022T175552Z
UID:4006-1603908000-1603911600@www.osubap.com
SUMMARY:New Techs Prevalence in the Accounting Industry
DESCRIPTION:Presented by: PwC
URL:https://www.osubap.com/event/new-techs-prevalence-in-the-accounting-industry/
END:VEVENT
BEGIN:VEVENT
DTSTART;TZID=America/Los_Angeles:20201021T180000
DTEND;TZID=America/Los_Angeles:20201021T190000
DTSTAMP:20260423T180520
CREATED:20201022T175306Z
LAST-MODIFIED:20201022T180036Z
UID:4004-1603303200-1603306800@www.osubap.com
SUMMARY:Navigating the Job Hiring Process
DESCRIPTION:Presented by: Tax & Wealth Management
URL:https://www.osubap.com/event/navigating-the-job-hiring-process/
END:VEVENT
BEGIN:VEVENT
DTSTART;TZID=America/Los_Angeles:20201014T180000
DTEND;TZID=America/Los_Angeles:20201014T190000
DTSTAMP:20260423T180520
CREATED:20201022T175112Z
LAST-MODIFIED:20201022T175112Z
UID:4002-1602698400-1602702000@www.osubap.com
SUMMARY:The Difference Between Audit\, Risk\, and Tax
DESCRIPTION:Presented by: Grant Thornton
URL:https://www.osubap.com/event/the-difference-between-audit-risk-and-tax/
END:VEVENT
END:VCALENDAR